BEGIN:VCALENDAR
VERSION:2.0
PRODID:icalendar-ruby
CALSCALE:GREGORIAN
BEGIN:VEVENT
DTSTAMP:20260425T144847Z
UID:71b5d243-2d98-4676-8477-b9af5c2ed78b
DTSTART;VALUE=DATE:20200929
DESCRIPTION:Property ID# 489709\, Time: 3:00PM
SUMMARY:Auction for 
END:VEVENT
END:VCALENDAR
