BEGIN:VCALENDAR
VERSION:2.0
PRODID:icalendar-ruby
CALSCALE:GREGORIAN
BEGIN:VEVENT
DTSTAMP:20260424T081503Z
UID:f78c0d72-dc4d-4c3d-bbf9-1b6675de8365
DTSTART;VALUE=DATE:20210303
DESCRIPTION:Property ID# 501674\, Locatoin: Lodge Auction Rooms 935 Victori
 a Street\, Time: 12:30PM
SUMMARY:Auction for 
END:VEVENT
END:VCALENDAR
