BEGIN:VCALENDAR
VERSION:2.0
PRODID:icalendar-ruby
CALSCALE:GREGORIAN
BEGIN:VEVENT
DTSTAMP:20260423T163433Z
UID:4efa03d2-bcc9-426f-92f1-07094ff04ee9
DTSTART;VALUE=DATE:20210506
DESCRIPTION:Property ID# 507370\, Time: 1:00PM
SUMMARY:Auction for 
END:VEVENT
END:VCALENDAR
