BEGIN:VCALENDAR
VERSION:2.0
PRODID:icalendar-ruby
CALSCALE:GREGORIAN
BEGIN:VEVENT
DTSTAMP:20260424T081206Z
UID:39f7ed68-4194-4c24-8a16-7d7333af4457
DTSTART;VALUE=DATE:20210519
DESCRIPTION:Property ID# 509486\, Locatoin: Lodge Auction Rooms 935 Victori
 a Street\, Time: 12:30PM
SUMMARY:Auction for 
END:VEVENT
END:VCALENDAR
