BEGIN:VCALENDAR
VERSION:2.0
PRODID:icalendar-ruby
CALSCALE:GREGORIAN
BEGIN:VEVENT
DTSTAMP:20260424T081604Z
UID:980a9ae8-c4b6-4653-9257-e485adf5bca9
DTSTART;VALUE=DATE:20210804
DESCRIPTION:Property ID# 514287\, Locatoin: Lodge Auction Rooms\, Time: 12:
 30PM
SUMMARY:Auction for 
END:VEVENT
END:VCALENDAR
