BEGIN:VCALENDAR
VERSION:2.0
PRODID:icalendar-ruby
CALSCALE:GREGORIAN
BEGIN:VEVENT
DTSTAMP:20260423T162123Z
UID:159b7065-600d-47f4-bfa5-942659e097b7
DTSTART;VALUE=DATE:20211008
DESCRIPTION:Property ID# 517073\, Time: 1:00PM
SUMMARY:Auction for 
END:VEVENT
END:VCALENDAR
