BEGIN:VCALENDAR
VERSION:2.0
PRODID:icalendar-ruby
CALSCALE:GREGORIAN
BEGIN:VEVENT
DTSTAMP:20260425T180531Z
UID:cb6323c0-f923-4aa3-a0f9-783eb3c84a6d
DTSTART;VALUE=DATE:20220510
DESCRIPTION:Property ID# 534529\, Locatoin: Ray White Auction Room at 91 Vi
 ctoria Street\, Hamilton.\, Time: 12:30PM
SUMMARY:Auction for 
END:VEVENT
END:VCALENDAR
