BEGIN:VCALENDAR
VERSION:2.0
PRODID:icalendar-ruby
CALSCALE:GREGORIAN
BEGIN:VEVENT
DTSTAMP:20260420T082605Z
UID:6720f85b-6478-4ee7-b9a6-557452b351ca
DTSTART;VALUE=DATE:20220831
DESCRIPTION:Property ID# 542052\, Locatoin: Lodge Auction Rooms\, Time: 12:
 30PM
SUMMARY:Auction for 
END:VEVENT
END:VCALENDAR
