BEGIN:VCALENDAR
VERSION:2.0
PRODID:icalendar-ruby
CALSCALE:GREGORIAN
BEGIN:VEVENT
DTSTAMP:20260423T164109Z
UID:99203731-1533-45e1-8640-5895d19312e9
DTSTART;VALUE=DATE:20231214
DESCRIPTION:Property ID# 566160\, Locatoin: Harcourts Auction Rooms \, Time
 : 2:00PM
SUMMARY:Auction for 
END:VEVENT
END:VCALENDAR
