BEGIN:VCALENDAR
VERSION:2.0
PRODID:icalendar-ruby
CALSCALE:GREGORIAN
BEGIN:VEVENT
DTSTAMP:20260423T171500Z
UID:ffa46559-421a-4af2-8786-9be496ad4024
DTSTART;VALUE=DATE:20240307
DESCRIPTION:Property ID# 570238\, Time: 2:00PM
SUMMARY:Auction for 
END:VEVENT
END:VCALENDAR
