BEGIN:VCALENDAR
VERSION:2.0
PRODID:icalendar-ruby
CALSCALE:GREGORIAN
BEGIN:VEVENT
DTSTAMP:20260423T102216Z
UID:c1eccc21-b806-4673-86fb-f9af979fd69a
DTSTART;VALUE=DATE:20241017
DESCRIPTION:Property ID# 581588\, Locatoin: Harcourts Auction Rooms \, Time
 : 2:00PM
SUMMARY:Auction for 
END:VEVENT
END:VCALENDAR
