BEGIN:VCALENDAR
VERSION:2.0
PRODID:icalendar-ruby
CALSCALE:GREGORIAN
BEGIN:VEVENT
DTSTAMP:20260423T163617Z
UID:92c365a1-2f4f-4e9a-a58d-f728e459432d
DTSTART;VALUE=DATE:20250303
DESCRIPTION:Property ID# 585799\, Locatoin: Rotary Club Rooms - 45 Canada S
 treet\, Morrinsville\, Time: 11:00AM
SUMMARY:Auction for 
END:VEVENT
END:VCALENDAR
