BEGIN:VCALENDAR
VERSION:2.0
PRODID:icalendar-ruby
CALSCALE:GREGORIAN
BEGIN:VEVENT
DTSTAMP:20260420T093206Z
UID:37bb14de-b5a3-4a5a-a926-23dcd193dfff
DTSTART;TZID=Pacific/Auckland:20260427T130000
DTEND;TZID=Pacific/Auckland:20260427T133000
DESCRIPTION:Property ID# 606361
SUMMARY:Openhome for 690 Te Kawa Road
END:VEVENT
END:VCALENDAR
